BEGIN:VCALENDAR
VERSION:2.0
PRODID:-//Union Strong - ECPv6.15.20//NONSGML v1.0//EN
CALSCALE:GREGORIAN
METHOD:PUBLISH
X-WR-CALNAME:Union Strong
X-ORIGINAL-URL:https://unionstrongohio.com
X-WR-CALDESC:Events for Union Strong
REFRESH-INTERVAL;VALUE=DURATION:PT1H
X-Robots-Tag:noindex
X-PUBLISHED-TTL:PT1H
BEGIN:VTIMEZONE
TZID:America/New_York
BEGIN:DAYLIGHT
TZOFFSETFROM:-0500
TZOFFSETTO:-0400
TZNAME:EDT
DTSTART:20220313T070000
END:DAYLIGHT
BEGIN:STANDARD
TZOFFSETFROM:-0400
TZOFFSETTO:-0500
TZNAME:EST
DTSTART:20221106T060000
END:STANDARD
BEGIN:DAYLIGHT
TZOFFSETFROM:-0500
TZOFFSETTO:-0400
TZNAME:EDT
DTSTART:20230312T070000
END:DAYLIGHT
BEGIN:STANDARD
TZOFFSETFROM:-0400
TZOFFSETTO:-0500
TZNAME:EST
DTSTART:20231105T060000
END:STANDARD
BEGIN:DAYLIGHT
TZOFFSETFROM:-0500
TZOFFSETTO:-0400
TZNAME:EDT
DTSTART:20240310T070000
END:DAYLIGHT
BEGIN:STANDARD
TZOFFSETFROM:-0400
TZOFFSETTO:-0500
TZNAME:EST
DTSTART:20241103T060000
END:STANDARD
END:VTIMEZONE
BEGIN:VTIMEZONE
TZID:UTC
BEGIN:STANDARD
TZOFFSETFROM:+0000
TZOFFSETTO:+0000
TZNAME:UTC
DTSTART:20220101T000000
END:STANDARD
END:VTIMEZONE
BEGIN:VEVENT
DTSTART;TZID=America/New_York:20230805T100000
DTEND;TZID=America/New_York:20230805T160000
DTSTAMP:20260424T061841
CREATED:20230731T142422Z
LAST-MODIFIED:20230731T142422Z
UID:376-1691229600-1691251200@unionstrongohio.com
SUMMARY:Canton Vote No On Issue 1 GOTV Canvass
DESCRIPTION:Join your union Sisters\, Brothers\, Siblings and others who care about protecting majority rule as we canvass to get out the vote for the August 8 Vote No On Issue 1 Special Election
URL:https://unionstrongohio.com/event/canton-vote-no-on-issue-1-gotv-canvass/
LOCATION:UA 94 Event Center\, 3825 13th St.\, SW\, Canton\, OH\, 44740\, United States
ATTACH;FMTTYPE=image/jpeg:https://unionstrongohio.com/wp-content/uploads/2023/06/AFlCIO_NoOnIssue1_B.jpg
ORGANIZER;CN="Kathleen Kelly-Calcei":MAILTO:kcalcei@ohaflcio.org
END:VEVENT
BEGIN:VEVENT
DTSTART;TZID=America/New_York:20230805T100000
DTEND;TZID=America/New_York:20230805T160000
DTSTAMP:20260424T061841
CREATED:20230731T142136Z
LAST-MODIFIED:20230731T191636Z
UID:384-1691229600-1691251200@unionstrongohio.com
SUMMARY:Cincinnati Vote No On Issue 1 GOTV Canvass
DESCRIPTION:Join your union Sisters\, Brothers\, Siblings and others who care about protecting majority rule as we canvass to get out the vote for the August 8 Vote No On Issue 1 Special Election
URL:https://unionstrongohio.com/event/cincinnati-vote-no-on-issue-1-gotv-canvass/
LOCATION:Cincinnati AFL-CIO\, 1385 Tennessee Ave\, Cincinnati\, OH\, 45229\, United States
ATTACH;FMTTYPE=image/jpeg:https://unionstrongohio.com/wp-content/uploads/2023/06/AFlCIO_NoOnIssue1_B.jpg
ORGANIZER;CN="Evan Hennessy":MAILTO:ehennessy@ohaflcio.org
END:VEVENT
BEGIN:VEVENT
DTSTART;TZID=America/New_York:20230805T100000
DTEND;TZID=America/New_York:20230805T160000
DTSTAMP:20260424T061841
CREATED:20230731T142037Z
LAST-MODIFIED:20230731T143625Z
UID:382-1691229600-1691251200@unionstrongohio.com
SUMMARY:Cleveland Vote No On Issue 1 GOTV Canvass with AFT President Randi Weingarten
DESCRIPTION:Join your union Sisters\, Brothers\, Siblings and others who care about protecting majority rule as we canvass to get out the vote for the August 8 Vote No On Issue 1 Special Election
URL:https://unionstrongohio.com/event/cleveland-vote-no-on-issue-1-gotv-canvass/
LOCATION:PJ McEntyres\, 17119 Lorain Ave\, Cleveland\, OH\, 44111\, United States
ATTACH;FMTTYPE=image/jpeg:https://unionstrongohio.com/wp-content/uploads/2023/06/AFlCIO_NoOnIssue1_B.jpg
ORGANIZER;CN="Brian Pearson":MAILTO:bpearson@clevelandaflcio.org
END:VEVENT
BEGIN:VEVENT
DTSTART;TZID=America/New_York:20230805T100000
DTEND;TZID=America/New_York:20230805T160000
DTSTAMP:20260424T061841
CREATED:20230731T141805Z
LAST-MODIFIED:20230731T141805Z
UID:377-1691229600-1691251200@unionstrongohio.com
SUMMARY:GOTV Toledo Vote No On Issue 1 Canvass
DESCRIPTION:Join your union Sisters\, Brothers\, Siblings and others who care about protecting majority rule as we canvass to get out the vote for the August 8 Vote No On Issue 1 Special Election
URL:https://unionstrongohio.com/event/gotv-toledo-vote-no-on-issue-1-canvass/
LOCATION:TFT Local 250\, 115 S. St Clair St\,\, Toledo\, OH\, United States
ATTACH;FMTTYPE=image/jpeg:https://unionstrongohio.com/wp-content/uploads/2023/06/AFlCIO_NoOnIssue1_B.jpg
ORGANIZER;CN="Evan Morrison":MAILTO:emorrison@ohaflcio.org
END:VEVENT
BEGIN:VEVENT
DTSTART;TZID=America/New_York:20230805T100000
DTEND;TZID=America/New_York:20230805T130000
DTSTAMP:20260424T061841
CREATED:20230724T192802Z
LAST-MODIFIED:20230728T201344Z
UID:370-1691229600-1691240400@unionstrongohio.com
SUMMARY:Cleveland Canvass/Lit Drop with AFT President Randy Weingarten
DESCRIPTION:Come help get out the NO on Issue 1 vote as we gather in solidarity to hear from American Federation of Teachers President Randi Weingarten before we hit the streets and talk to our neighbors about how important their Vote on August 8 is. Union members\, retirees and all who care about democracy are welcome to attend and participate.
URL:https://unionstrongohio.com/event/cleveland-canvas-lit-drop-with-aft-president-randy-weingarten/
LOCATION:PJ McEntyres\, 17119 Lorain Ave\, Cleveland\, OH\, 44111\, United States
ATTACH;FMTTYPE=image/jpeg:https://unionstrongohio.com/wp-content/uploads/2023/06/AFlCIO_NoOnIssue1_A.jpg
ORGANIZER;CN="Brian Pearson":MAILTO:bpearson@clevelandaflcio.org
END:VEVENT
BEGIN:VEVENT
DTSTART;TZID=America/New_York:20230801T120000
DTEND;TZID=America/New_York:20230801T133000
DTSTAMP:20260424T061841
CREATED:20230721T152354Z
LAST-MODIFIED:20230721T152405Z
UID:361-1690891200-1690896600@unionstrongohio.com
SUMMARY:Mansfield Issue 1 Luncheon with Governor Dick Celeste and Ohio AFL-CIO President Tim Burga
DESCRIPTION:Come join former Governor Dick Celeste and Ohio AFL-CIO President Tim Burga to learn more about the devastating affects Issue 1 will have on all Ohio voters. We must VOTE NO to protect majorioty rule and preserve democracy in Ohio. Free lunch will be provided
URL:https://unionstrongohio.com/event/mansfield-ssue-1-luncheon-with-governor-dick-celeste-and-ohio-afl-cio-president-tim-burga/
LOCATION:USW 169 Hall\, 376 West Longview\, Mansfield\, OH\, 4903\, United States
ATTACH;FMTTYPE=image/jpeg:https://unionstrongohio.com/wp-content/uploads/2023/06/AFlCIO_NoOnIssue1_B.jpg
ORGANIZER;CN="Norm Shoemaker":MAILTO:MIDOHIOAREACLC@GMAIL.COM
END:VEVENT
BEGIN:VEVENT
DTSTART;TZID=America/New_York:20230729T100000
DTEND;TZID=America/New_York:20230729T140000
DTSTAMP:20260424T061841
CREATED:20230721T151918Z
LAST-MODIFIED:20230728T201356Z
UID:357-1690624800-1690639200@unionstrongohio.com
SUMMARY:Dayton Canvass with Melissa Cropper
DESCRIPTION:Come canvas with fellow union members\, retirees and those who care about protecting majority rule as we go door-to-door to urge voters to VOTE NO on Issue 1. We will be joined by Ohio AFL-CIO Secretary/Treasurer and OFT President Melissa Cropper.
URL:https://unionstrongohio.com/event/dayton-canvas-with-melissa-cropper/
LOCATION:Dayton-Miami Valley AFL-CIO\, 6550 Poe Ave\, Vandalia\, OH\, 45414\, United States
ATTACH;FMTTYPE=image/jpeg:https://unionstrongohio.com/wp-content/uploads/2023/06/AFlCIO_NoOnIssue1_B.jpg
ORGANIZER;CN="Evan Hennessy":MAILTO:ehennessy@ohaflcio.org
END:VEVENT
BEGIN:VEVENT
DTSTART;TZID=America/New_York:20230726T170000
DTEND;TZID=America/New_York:20230726T180000
DTSTAMP:20260424T061841
CREATED:20230721T155322Z
LAST-MODIFIED:20230724T192402Z
UID:366-1690390800-1690394400@unionstrongohio.com
SUMMARY:Columbus Postcard Party with Council President Shannon Hardin & City Attorney Zach Klein
DESCRIPTION:Come join union members\, retirees and those who care about protecting majority rule as we write postcards to urge voters to VOTE NO on Issue 1 on August 8. We will be joined by Columbus City Council President Shannon Hardn and Columbus City Attorney Zach Klein as we fight to defend democracy in Ohio.
URL:https://unionstrongohio.com/event/columbus-postcard-party-with-council-president-shannon-hardin-city-attornry-zach-klein/
LOCATION:UCFW 1059\, 4150 E Main St\, Columbus\, OH\, 43213\, United States
ATTACH;FMTTYPE=image/jpeg:https://unionstrongohio.com/wp-content/uploads/2023/06/AFlCIO_NoOnIssue1_A.jpg
ORGANIZER;CN="Jamie Shumaker":MAILTO:jshumaker@columbusaflcio.org
END:VEVENT
BEGIN:VEVENT
DTSTART;TZID=America/New_York:20230726T160000
DTEND;TZID=America/New_York:20230726T180000
DTSTAMP:20260424T061841
CREATED:20230721T151515Z
LAST-MODIFIED:20230721T151950Z
UID:353-1690387200-1690394400@unionstrongohio.com
SUMMARY:Cleveland Postcard Party with Governor Dick Celeste
DESCRIPTION:Come join your fellw union members\, retirees and those who are fighting to protect majority rule by writing postcards to urge union voters to vote NO on Issue 1 August 8. Former Governor Dick Celeste will join us and food will be served.
URL:https://unionstrongohio.com/event/postcard-party-with-governor-dick-celeste/
LOCATION:North Shore AFL-CIO\, 3250 Euclid Avenue Suite 250\, Cleveland\, OH\, 44115\, United States
ATTACH;FMTTYPE=image/jpeg:https://unionstrongohio.com/wp-content/uploads/2023/06/AFlCIO_NoOnIssue1_B.jpg
ORGANIZER;CN="Brian Pearson":MAILTO:bpearson@clevelandaflcio.org
END:VEVENT
BEGIN:VEVENT
DTSTART;TZID=America/New_York:20230721T090000
DTEND;TZID=America/New_York:20230721T120000
DTSTAMP:20260424T061841
CREATED:20230721T151715Z
LAST-MODIFIED:20230721T152007Z
UID:355-1689930000-1689940800@unionstrongohio.com
SUMMARY:Cincinnati Canvas Kick-Off With Congressman Greg Landsman
DESCRIPTION:Come join fellow union members\, retirees and those who care about protecting majority rule as we go door-to-door urging voters to Vote NO on Issue 1 on August 8. We will be joined by Congressman Greg Landsman as we fight to keep democracy thriving in our great state.
URL:https://unionstrongohio.com/event/canvas-kick-off-with-congressman-greg-landsman/
LOCATION:Cincinnati AFL-CIO\, 1385 Tennessee Ave\, Cincinnati\, OH\, 45229\, United States
ATTACH;FMTTYPE=image/jpeg:https://unionstrongohio.com/wp-content/uploads/2023/06/AFlCIO_NoOnIssue1_B.jpg
ORGANIZER;CN="Evan Hennessy":MAILTO:ehennessy@ohaflcio.org
END:VEVENT
BEGIN:VEVENT
DTSTART;TZID=America/New_York:20230720T190000
DTEND;TZID=America/New_York:20230720T200000
DTSTAMP:20260424T061841
CREATED:20230714T192137Z
LAST-MODIFIED:20230714T192330Z
UID:348-1689879600-1689883200@unionstrongohio.com
SUMMARY:Issue 1 Community Forum
DESCRIPTION:The Licking/Knox/Muskinghum/Coshocton AFL-CIO Labor Council is hosting a forum about the harmful effects of Issue 1 if passed. Come hear from the League of Women Voters\, Common Cause Ohio and Ohio AFL-CIO President Tim Burga on why Ohioans must vote NO on Issue 1 to protect majority rule
URL:https://unionstrongohio.com/event/issue-1-community-forum/
LOCATION:USW Local 244 Union Hall\, 350 Hudson Ave\, Newark\, Ohio\, 43055
ATTACH;FMTTYPE=image/jpeg:https://unionstrongohio.com/wp-content/uploads/2023/06/AFlCIO_NoOnIssue1_B.jpg
ORGANIZER;CN="Ohio AFL-CIO":MAILTO:info@ohioaflcio.org
END:VEVENT
BEGIN:VEVENT
DTSTART;TZID=America/New_York:20230715T130000
DTEND;TZID=America/New_York:20230715T210000
DTSTAMP:20260424T061841
CREATED:20230710T131510Z
LAST-MODIFIED:20230710T131510Z
UID:312-1689426000-1689454800@unionstrongohio.com
SUMMARY:Central Ohio AFL-CIO Summer of Solidarity
DESCRIPTION:The Central Ohio AFL-CIO has partnered with CD 92.9 to host the first Summer of Solidarity concert. Come join working people of all ages to hear live local music\, visit the No on Issue 1 booth and enjoy the food truck and vendors as we celebrate the power of union and community Solidarity.
URL:https://unionstrongohio.com/event/central-ohio-afl-cio-summer-of-solidarity/
LOCATION:CD 92.9\, 1036 S. Front St.\, Columbus\, OH\, 43206\, United States
ATTACH;FMTTYPE=image/png:https://unionstrongohio.com/wp-content/uploads/2023/07/summerofSolidarity-Block.png
ORGANIZER;CN="Jamie Shumaker":MAILTO:jshumaker@columbusaflcio.org
END:VEVENT
BEGIN:VEVENT
DTSTART;TZID=America/New_York:20230714T100000
DTEND;TZID=America/New_York:20230714T130000
DTSTAMP:20260424T061841
CREATED:20230629T143032Z
LAST-MODIFIED:20230629T143119Z
UID:284-1689328800-1689339600@unionstrongohio.com
SUMMARY:Cleveland Postcard Writing Party
DESCRIPTION:Come join us for a day of fun and action as we work to defeat Issue 1. Postcard Writing\, music\, rides and guides to vote early.
URL:https://unionstrongohio.com/event/cleveland-postcard-writing-party-3/
LOCATION:North Shore AFL-CIO\, 3250 Euclid Avenue Suite 250\, Cleveland\, OH\, 44115\, United States
ATTACH;FMTTYPE=image/jpeg:https://unionstrongohio.com/wp-content/uploads/2023/06/AFlCIO_NoOnIssue1_A.jpg
ORGANIZER;CN="Brian Pearson":MAILTO:bpearson@clevelandaflcio.org
END:VEVENT
BEGIN:VEVENT
DTSTART;TZID=America/New_York:20230713T100000
DTEND;TZID=America/New_York:20230713T183000
DTSTAMP:20260424T061841
CREATED:20230710T203802Z
LAST-MODIFIED:20230710T203802Z
UID:317-1689242400-1689273000@unionstrongohio.com
SUMMARY:Central Ohio AFL-CIO No on Issue 1 Postcard Writing Party
DESCRIPTION:Come join fellow union members and working people as we write postcards to remind voters of the August 8 Special Election and to protect majority rule by voting NO on Issue 1.
URL:https://unionstrongohio.com/event/central-ohio-afl-cio-no-on-issue-1-postcard-writing-party/
LOCATION:UCFW 1059\, 4150 E Main St\, Columbus\, OH\, 43213\, United States
ATTACH;FMTTYPE=image/jpeg:https://unionstrongohio.com/wp-content/uploads/2023/06/AFlCIO_NoOnIssue1_B.jpg
ORGANIZER;CN="Jamie Shumaker":MAILTO:jshumaker@columbusaflcio.org
END:VEVENT
BEGIN:VEVENT
DTSTART;TZID=America/New_York:20230712T170000
DTEND;TZID=America/New_York:20230712T193000
DTSTAMP:20260424T061841
CREATED:20230710T130831Z
LAST-MODIFIED:20230710T130831Z
UID:309-1689181200-1689190200@unionstrongohio.com
SUMMARY:Canton No On Issue 1 Early Vote Rally
DESCRIPTION:Come join fellow union members and working people from Stark County and beyond as we rally at the Plumbers and Pipefitters (UA) Local 94 Event Center to encourage Ohioans to Vote Early in person or by mail to defeat Issue 1\, which would end majority rule and change the rules for citizen-led Constitutional Amendments.
URL:https://unionstrongohio.com/event/canton-no-on-issue-1-early-vote-rally/
LOCATION:UA 94 Event Center\, 3825 13th St.\, SW\, Canton\, OH\, 44740\, United States
ATTACH;FMTTYPE=image/jpeg:https://unionstrongohio.com/wp-content/uploads/2023/06/AFlCIO_NoOnIssue1_A.jpg
END:VEVENT
BEGIN:VEVENT
DTSTART;TZID=America/New_York:20230708T110000
DTEND;TZID=America/New_York:20230708T130000
DTSTAMP:20260424T061841
CREATED:20230628T181858Z
LAST-MODIFIED:20230629T143153Z
UID:276-1688814000-1688821200@unionstrongohio.com
SUMMARY:Toledo July 8 Day of Action
DESCRIPTION:Come canvass and write postcards to encourage Ohioans to stop the political power-grab by voting NO on Issue 1 this August.
URL:https://unionstrongohio.com/event/toledo-july-8-day-of-action/
LOCATION:2903 Dorr Rd Toledo\, 2903 Dorr St\, Toledo\, OH\, 43607\, United States
ATTACH;FMTTYPE=image/jpeg:https://unionstrongohio.com/wp-content/uploads/2023/06/AFlCIO_NoOnIssue1_B.jpg
ORGANIZER;CN="Evan Morrison":MAILTO:emorrison@ohaflcio.org
END:VEVENT
BEGIN:VEVENT
DTSTART;TZID=America/New_York:20230708T100000
DTEND;TZID=America/New_York:20230708T170000
DTSTAMP:20260424T061841
CREATED:20230629T143555Z
LAST-MODIFIED:20230629T143555Z
UID:288-1688810400-1688835600@unionstrongohio.com
SUMMARY:Columbus Day of Action Canvas and Postcard Writing Party
DESCRIPTION:Come join working people and union members as we go door-to-door and write postcards to urge Ohioans to stop the political power-grab and Vote No on Issue 1.
URL:https://unionstrongohio.com/event/columbus-day-of-action-canvas-and-postcard-writing-party/
LOCATION:IBEW 683\, 939 Goodale Blvd\, Columbus\, OH\, 43212\, United States
ATTACH;FMTTYPE=image/jpeg:https://unionstrongohio.com/wp-content/uploads/2023/06/AFlCIO_NoOnIssue1_B.jpg
ORGANIZER;CN="Jamie Shumaker":MAILTO:jshumaker@columbusaflcio.org
END:VEVENT
BEGIN:VEVENT
DTSTART;TZID=America/New_York:20230708T100000
DTEND;TZID=America/New_York:20230708T130000
DTSTAMP:20260424T061841
CREATED:20230628T182249Z
LAST-MODIFIED:20230629T143225Z
UID:280-1688810400-1688821200@unionstrongohio.com
SUMMARY:Athens July 8 Day of Action
DESCRIPTION:Come join volunteers and fellow union members as we go door-to-door and write postcards encouraing Ohioans to stop the political power-grab and Vote NO on Issue 1
URL:https://unionstrongohio.com/event/athens-july-8-day-of-action/
LOCATION:AFSCME Council 8 The Plains\, 36 S Plains Rd\,\, The Plains\, OH\, 45780\, United States
ATTACH;FMTTYPE=image/jpeg:https://unionstrongohio.com/wp-content/uploads/2023/06/AFlCIO_NoOnIssue1_B.jpg
ORGANIZER;CN="Mike French":MAILTO:mfrench@ohaflcio.org
END:VEVENT
BEGIN:VEVENT
DTSTART;TZID=America/New_York:20230708T100000
DTEND;TZID=America/New_York:20230708T130000
DTSTAMP:20260424T061841
CREATED:20230620T163538Z
LAST-MODIFIED:20230629T143256Z
UID:234-1688810400-1688821200@unionstrongohio.com
SUMMARY:Cleveland Canvas/Lit Drop
DESCRIPTION:Join union members and those who care about majority rule to knock doors and drop literature to Ohio voters urging them to Vote No on Issue 1 to stop the political powergrab
URL:https://unionstrongohio.com/event/cleveland-canvas-lit-drop/
LOCATION:PJ McEntyres\, 17119 Lorain Ave\, Cleveland\, OH\, 44111\, United States
ATTACH;FMTTYPE=image/jpeg:https://unionstrongohio.com/wp-content/uploads/2023/06/AFlCIO_NoOnIssue1_A.jpg
END:VEVENT
BEGIN:VEVENT
DTSTART;TZID=America/New_York:20230708T100000
DTEND;TZID=America/New_York:20230708T130000
DTSTAMP:20260424T061841
CREATED:20230620T163437Z
LAST-MODIFIED:20230629T143317Z
UID:231-1688810400-1688821200@unionstrongohio.com
SUMMARY:Cleveland Postcard Writing Party
DESCRIPTION:Join union members and those who care about majority rule to write postcards to Ohio voters urging them to Vote No on Issue 1 to stop the political powergrab
URL:https://unionstrongohio.com/event/cleveland-postcard-writing-party-2/
LOCATION:PJ McEntyres\, 17119 Lorain Ave\, Cleveland\, OH\, 44111\, United States
ATTACH;FMTTYPE=image/jpeg:https://unionstrongohio.com/wp-content/uploads/2023/06/AFlCIO_NoOnIssue1_A.jpg
ORGANIZER;CN="Brian Pearson":MAILTO:bpearson@clevelandaflcio.org
END:VEVENT
BEGIN:VEVENT
DTSTART;TZID=America/New_York:20230708T093000
DTEND;TZID=America/New_York:20230708T123000
DTSTAMP:20260424T061841
CREATED:20230629T161205Z
LAST-MODIFIED:20230629T161205Z
UID:300-1688808600-1688819400@unionstrongohio.com
SUMMARY:Akron Canvas and Postcard Writing Day of Action
DESCRIPTION:Come join fellow union members and working people as we talk to Ohio voters and write postcards to encourage Ohioans to VOTE NO on Issue 1 this August 8.
URL:https://unionstrongohio.com/event/akron-canvas-and-postcard-writing-day-of-action/
LOCATION:CWA 4302\, 2650 S. Arlington Rd.\, Akron\, OH\, 44319\, United States
ATTACH;FMTTYPE=image/jpeg:https://unionstrongohio.com/wp-content/uploads/2023/06/AFlCIO_NoOnIssue1_A.jpg
ORGANIZER;CN="Kathleen Kelly-Calcei":MAILTO:kcalcei@ohaflcio.org
END:VEVENT
BEGIN:VEVENT
DTSTART;TZID=America/New_York:20230708T093000
DTEND;TZID=America/New_York:20230708T123000
DTSTAMP:20260424T061841
CREATED:20230629T160829Z
LAST-MODIFIED:20230629T160829Z
UID:297-1688808600-1688819400@unionstrongohio.com
SUMMARY:Mahoning-Trumbull Canvas & Postcard Day of Action
DESCRIPTION:Come join fellow union members and working people as we talk to Ohio voters and write postcards to encourage Ohioans to VOTE NO on Issue 1 this August 8.
URL:https://unionstrongohio.com/event/mahoning-trumbull-canvas-postcard-day-of-action/
LOCATION:USW 2155\, 1265 N. Main St\, Niles\, OH\, 44446\, United States
ATTACH;FMTTYPE=image/jpeg:https://unionstrongohio.com/wp-content/uploads/2023/06/AFlCIO_NoOnIssue1_A.jpg
ORGANIZER;CN="Kathleen Kelly-Calcei":MAILTO:kcalcei@ohaflcio.org
END:VEVENT
BEGIN:VEVENT
DTSTART;TZID=America/New_York:20230708T090000
DTEND;TZID=America/New_York:20230708T170000
DTSTAMP:20260424T061841
CREATED:20230629T193036Z
LAST-MODIFIED:20230629T193036Z
UID:306-1688806800-1688835600@unionstrongohio.com
SUMMARY:Dayton Canvas and Postcard Writing Day of Action
DESCRIPTION:Come join union members and fellow working people as we go door-to-door and write postcards educating voters on the importance of Voting NO on Issue 1 on August 8 to protect majority rule and end the political power-grab being funded by special insterests and out-of-state billionaires.
URL:https://unionstrongohio.com/event/dayton-canvas-and-postcard-writing-day-of-action/
LOCATION:Dayton-Miami Valley AFL-CIO\, 6550 Poe Ave\, Vandalia\, OH\, 45414\, United States
ATTACH;FMTTYPE=image/jpeg:https://unionstrongohio.com/wp-content/uploads/2023/06/AFlCIO_NoOnIssue1_B.jpg
ORGANIZER;CN="Evan Hennessy":MAILTO:ehennessy@ohaflcio.org
END:VEVENT
BEGIN:VEVENT
DTSTART;TZID=America/New_York:20230708T090000
DTEND;TZID=America/New_York:20230708T130000
DTSTAMP:20260424T061841
CREATED:20230629T191008Z
LAST-MODIFIED:20230629T191008Z
UID:302-1688806800-1688821200@unionstrongohio.com
SUMMARY:Cincinnati Day of Action Canvas and Postcard Party
DESCRIPTION:Come join fellow union members and working people from around Hamilton county as we work to educate voters as to why Issue 1 will end majority rule
URL:https://unionstrongohio.com/event/cincinnati-day-of-action-canvas-and-postcard-party/
LOCATION:Cincinnati AFL-CIO\, 1385 Tennessee Ave\, Cincinnati\, OH\, 45229\, United States
ATTACH;FMTTYPE=image/jpeg:https://unionstrongohio.com/wp-content/uploads/2023/06/AFlCIO_NoOnIssue1_A.jpg
ORGANIZER;CN="Evan Hennessy":MAILTO:ehennessy@ohaflcio.org
END:VEVENT
BEGIN:VEVENT
DTSTART;TZID=America/New_York:20230701T093000
DTEND;TZID=America/New_York:20230701T123000
DTSTAMP:20260424T061841
CREATED:20230629T160302Z
LAST-MODIFIED:20230629T160302Z
UID:294-1688203800-1688214600@unionstrongohio.com
SUMMARY:Akron Postcard Writing Party
DESCRIPTION:Come join union members and working people to write postcards to encourage Ohio voters to Vote NO on Issue 1 to protect majority rule.
URL:https://unionstrongohio.com/event/akron-postcard-writing-party/
LOCATION:CWA 4302\, 2650 S. Arlington Rd.\, Akron\, OH\, 44319\, United States
ATTACH;FMTTYPE=image/jpeg:https://unionstrongohio.com/wp-content/uploads/2023/06/AFlCIO_NoOnIssue1_B.jpg
ORGANIZER;CN="Kathleen Kelly-Calcei":MAILTO:kcalcei@ohaflcio.org
END:VEVENT
BEGIN:VEVENT
DTSTART;TZID=America/New_York:20230629T160000
DTEND;TZID=America/New_York:20230629T190000
DTSTAMP:20260424T061841
CREATED:20230620T161614Z
LAST-MODIFIED:20230620T161614Z
UID:223-1688054400-1688065200@unionstrongohio.com
SUMMARY:Youngstown-Niles Postcard Writing Party
DESCRIPTION:Join fellow union members and those who care about majority rule to help write postcards urging Ohio voters to Vote No on Issue 1 this August 8.
URL:https://unionstrongohio.com/event/youngstown-niles-postcard-writing-party/
LOCATION:USW 2165 N Main St. Nile\, OH\, 2165 N Main St. Nile\, OH\, Niles\, OH\, 44446\, United States
ORGANIZER;CN="Kathleen Kelly-Calcei":MAILTO:kcalcei@ohaflcio.org
END:VEVENT
BEGIN:VEVENT
DTSTART;TZID=UTC:20230629T090000
DTEND;TZID=UTC:20230629T180000
DTSTAMP:20260424T061841
CREATED:20230608T201851Z
LAST-MODIFIED:20230620T191232Z
UID:171-1688029200-1688061600@unionstrongohio.com
SUMMARY:Columbus-Area Postcard Writing Party
DESCRIPTION:
URL:https://unionstrongohio.com/event/postcard-writing-party-2/
LOCATION:UCFW 1059\, 4150 E Main St\, Columbus\, OH\, 43213\, United States
ORGANIZER;CN="Jamie Shumaker":MAILTO:jshumaker@columbusaflcio.org
END:VEVENT
BEGIN:VEVENT
DTSTART;TZID=UTC:20230628T173000
DTEND;TZID=UTC:20230628T193000
DTSTAMP:20260424T061841
CREATED:20230608T202121Z
LAST-MODIFIED:20230608T202121Z
UID:174-1687973400-1687980600@unionstrongohio.com
SUMMARY:Licking-Knox CLC: Postcard Party
DESCRIPTION:
URL:https://unionstrongohio.com/event/licking-knox-clc-postcard-party/
LOCATION:USW Local 244\, 350 Hudson Ave\, Newark\, OH\, United States
END:VEVENT
BEGIN:VEVENT
DTSTART;TZID=America/New_York:20230628T100000
DTEND;TZID=America/New_York:20230628T120000
DTSTAMP:20260424T061841
CREATED:20230620T162249Z
LAST-MODIFIED:20230629T185118Z
UID:227-1687946400-1687953600@unionstrongohio.com
SUMMARY:Cleveland Postcard Writing Party
DESCRIPTION:Come join union members and Ohioans who care about majority rule and write postcards to urge Ohio voters to stop the political powergrab and Vote NO on Issue 1 this August 8.
URL:https://unionstrongohio.com/event/cleveland-postcard-writing-party/
LOCATION:North Shore AFL-CIO\, 3250 Euclid Avenue Suite 250\, Cleveland\, OH\, 44115\, United States
ATTACH;FMTTYPE=image/jpeg:https://unionstrongohio.com/wp-content/uploads/2023/06/AFlCIO_NoOnIssue1_A.jpg
ORGANIZER;CN="Brian Pearson":MAILTO:bpearson@clevelandaflcio.org
END:VEVENT
BEGIN:VEVENT
DTSTART;TZID=UTC:20230627T090000
DTEND;TZID=UTC:20230627T180000
DTSTAMP:20260424T061841
CREATED:20230608T182114Z
LAST-MODIFIED:20230629T185051Z
UID:152-1687856400-1687888800@unionstrongohio.com
SUMMARY:Columbus-Area Postcard Writing Party
DESCRIPTION:
URL:https://unionstrongohio.com/event/postcard-writing-party/
LOCATION:UCFW 1059\, 4150 E Main St\, Columbus\, OH\, 43213\, United States
ATTACH;FMTTYPE=image/jpeg:https://unionstrongohio.com/wp-content/uploads/2023/06/AFlCIO_NoOnIssue1_B.jpg
ORGANIZER;CN="Jamie Shumaker":MAILTO:jshumaker@columbusaflcio.org
END:VEVENT
END:VCALENDAR