BEGIN:VCALENDAR
VERSION:2.0
PRODID:-//Union Strong - ECPv6.15.20//NONSGML v1.0//EN
CALSCALE:GREGORIAN
METHOD:PUBLISH
X-WR-CALNAME:Union Strong
X-ORIGINAL-URL:https://unionstrongohio.com
X-WR-CALDESC:Events for Union Strong
REFRESH-INTERVAL;VALUE=DURATION:PT1H
X-Robots-Tag:noindex
X-PUBLISHED-TTL:PT1H
BEGIN:VTIMEZONE
TZID:America/New_York
BEGIN:DAYLIGHT
TZOFFSETFROM:-0500
TZOFFSETTO:-0400
TZNAME:EDT
DTSTART:20220313T070000
END:DAYLIGHT
BEGIN:STANDARD
TZOFFSETFROM:-0400
TZOFFSETTO:-0500
TZNAME:EST
DTSTART:20221106T060000
END:STANDARD
BEGIN:DAYLIGHT
TZOFFSETFROM:-0500
TZOFFSETTO:-0400
TZNAME:EDT
DTSTART:20230312T070000
END:DAYLIGHT
BEGIN:STANDARD
TZOFFSETFROM:-0400
TZOFFSETTO:-0500
TZNAME:EST
DTSTART:20231105T060000
END:STANDARD
BEGIN:DAYLIGHT
TZOFFSETFROM:-0500
TZOFFSETTO:-0400
TZNAME:EDT
DTSTART:20240310T070000
END:DAYLIGHT
BEGIN:STANDARD
TZOFFSETFROM:-0400
TZOFFSETTO:-0500
TZNAME:EST
DTSTART:20241103T060000
END:STANDARD
END:VTIMEZONE
BEGIN:VEVENT
DTSTART;TZID=America/New_York:20230808T080000
DTEND;TZID=America/New_York:20230808T100000
DTSTAMP:20260420T075949
CREATED:20230731T151242Z
LAST-MODIFIED:20230804T153531Z
UID:437-1691481600-1691488800@unionstrongohio.com
SUMMARY:Cincinnati Vote No on Issue 1 Election Day Packet Pickup with David Pepper
DESCRIPTION:Join your union Sisters\, Brothers\, Siblings and others who care about protecting majority rule as we canvass on Election Day to get out the vote for the August 8 Vote No On Issue 1 Special Election. This is a packet pickup time only and you can walk/lit drop on Election Day as available.
URL:https://unionstrongohio.com/event/cincinnati-vote-no-on-issue-1-election-day-packet-pickup/
LOCATION:Cincinnati AFL-CIO\, 1385 Tennessee Ave\, Cincinnati\, OH\, 45229\, United States
ATTACH;FMTTYPE=image/jpeg:https://unionstrongohio.com/wp-content/uploads/2023/06/AFlCIO_NoOnIssue1_A.jpg
ORGANIZER;CN="Evan Hennessy":MAILTO:ehennessy@ohaflcio.org
END:VEVENT
BEGIN:VEVENT
DTSTART;TZID=America/New_York:20230808T080000
DTEND;TZID=America/New_York:20230808T100000
DTSTAMP:20260420T075949
CREATED:20230731T150202Z
LAST-MODIFIED:20230731T150202Z
UID:434-1691481600-1691488800@unionstrongohio.com
SUMMARY:Cleveland Vote No on Issue 1 Election Day Packet Pickup
DESCRIPTION:Join your union Sisters\, Brothers\, Siblings and others who care about protecting majority rule as we canvass on Election Day to get out the vote for the August 8 Vote No On Issue 1 Special Election. This is a packet pickup time only and you can walk/lit drop on Election Day as available.
URL:https://unionstrongohio.com/event/cleveland-vote-no-on-issue-1-election-day-packet-pickup/
LOCATION:CWA 4340\, 1400 E. Schaaf Rd\,\, Brooklyn Heights\, OH\, United States
ATTACH;FMTTYPE=image/jpeg:https://unionstrongohio.com/wp-content/uploads/2023/06/AFlCIO_NoOnIssue1_A.jpg
ORGANIZER;CN="Brian Pearson":MAILTO:bpearson@clevelandaflcio.org
END:VEVENT
BEGIN:VEVENT
DTSTART;TZID=America/New_York:20230808T080000
DTEND;TZID=America/New_York:20230808T100000
DTSTAMP:20260420T075949
CREATED:20230731T145817Z
LAST-MODIFIED:20230731T145817Z
UID:432-1691481600-1691488800@unionstrongohio.com
SUMMARY:Athens Vote No on Issue 1 Election Day Packet Pickup
DESCRIPTION:Join your union Sisters\, Brothers\, Siblings and others who care about protecting majority rule as we canvass on Election Day to get out the vote for the August 8 Vote No On Issue 1 Special Election. This is a packet pickup time only and you can walk/lit drop on Election Day as available.
URL:https://unionstrongohio.com/event/athens-vote-no-on-issue-1-election-day-packet-pickup/
LOCATION:AFSCME Council 8 The Plains\, 36 S Plains Rd\,\, The Plains\, OH\, 45780\, United States
ATTACH;FMTTYPE=image/jpeg:https://unionstrongohio.com/wp-content/uploads/2023/06/AFlCIO_NoOnIssue1_A.jpg
ORGANIZER;CN="Mike French":MAILTO:mfrench@ohaflcio.org
END:VEVENT
BEGIN:VEVENT
DTSTART;TZID=America/New_York:20230808T080000
DTEND;TZID=America/New_York:20230808T100000
DTSTAMP:20260420T075949
CREATED:20230731T145728Z
LAST-MODIFIED:20230731T145728Z
UID:430-1691481600-1691488800@unionstrongohio.com
SUMMARY:Youngtown/Niles Vote No on Issue 1 Election Day Packet Pickup
DESCRIPTION:Join your union Sisters\, Brothers\, Siblings and others who care about protecting majority rule as we canvass on Election Day to get out the vote for the August 8 Vote No On Issue 1 Special Election. This is a packet pickup time only and you can walk/lit drop on Election Day as available.
URL:https://unionstrongohio.com/event/youngtown-niles-vote-no-on-issue-1-election-day-packet-pickup/
LOCATION:USW 2165 N Main St. Nile\, OH\, 2165 N Main St. Nile\, OH\, Niles\, OH\, 44446\, United States
ATTACH;FMTTYPE=image/jpeg:https://unionstrongohio.com/wp-content/uploads/2023/06/AFlCIO_NoOnIssue1_A.jpg
ORGANIZER;CN="Kathleen Kelly-Calcei":MAILTO:kcalcei@ohaflcio.org
END:VEVENT
BEGIN:VEVENT
DTSTART;TZID=America/New_York:20230808T080000
DTEND;TZID=America/New_York:20230808T100000
DTSTAMP:20260420T075949
CREATED:20230731T144556Z
LAST-MODIFIED:20230731T144556Z
UID:428-1691481600-1691488800@unionstrongohio.com
SUMMARY:Canton Vote No on Issue 1 Election Day Packet Pickup
DESCRIPTION:Join your union Sisters\, Brothers\, Siblings and others who care about protecting majority rule as we canvass on Election Day to get out the vote for the August 8 Vote No On Issue 1 Special Election. This is a packet pickup time only and you can walk/lit drop on Election Day as available.
URL:https://unionstrongohio.com/event/canton-vote-no-on-issue-1-election-day-packet-pickup/
LOCATION:UA 94 Event Center\, 3825 13th St.\, SW\, Canton\, OH\, 44740\, United States
ATTACH;FMTTYPE=image/jpeg:https://unionstrongohio.com/wp-content/uploads/2023/06/AFlCIO_NoOnIssue1_A.jpg
END:VEVENT
BEGIN:VEVENT
DTSTART;TZID=America/New_York:20230808T080000
DTEND;TZID=America/New_York:20230808T100000
DTSTAMP:20260420T075949
CREATED:20230731T144425Z
LAST-MODIFIED:20230731T144425Z
UID:426-1691481600-1691488800@unionstrongohio.com
SUMMARY:Akron Vote No on Issue 1 Election Day Packet Pickup
DESCRIPTION:Join your union Sisters\, Brothers\, Siblings and others who care about protecting majority rule as we canvass on Election Day to get out the vote for the August 8 Vote No On Issue 1 Special Election. This is a packet pickup time only and you can walk/lit drop on Election Day as available.
URL:https://unionstrongohio.com/event/akron-vote-no-on-issue-1-election-day-packet-pickup/
LOCATION:CWA 4302\, 2650 S. Arlington Rd.\, Akron\, OH\, 44319\, United States
ATTACH;FMTTYPE=image/jpeg:https://unionstrongohio.com/wp-content/uploads/2023/06/AFlCIO_NoOnIssue1_A.jpg
ORGANIZER;CN="Kathleen Kelly-Calcei":MAILTO:kcalcei@ohaflcio.org
END:VEVENT
BEGIN:VEVENT
DTSTART;TZID=America/New_York:20230808T080000
DTEND;TZID=America/New_York:20230808T100000
DTSTAMP:20260420T075949
CREATED:20230731T144340Z
LAST-MODIFIED:20230731T144340Z
UID:424-1691481600-1691488800@unionstrongohio.com
SUMMARY:Toledo Vote No on Issue 1 Election Day Packet Pickup
DESCRIPTION:Join your union Sisters\, Brothers\, Siblings and others who care about protecting majority rule as we canvass on Election Day to get out the vote for the August 8 Vote No On Issue 1 Special Election. This is a packet pickup time only and you can walk/lit drop on Election Day as available.
URL:https://unionstrongohio.com/event/toledo-vote-no-on-issue-1-election-day-packet-pickup/
LOCATION:TFT Local 250\, 115 S. St Clair St\,\, Toledo\, OH\, United States
ATTACH;FMTTYPE=image/jpeg:https://unionstrongohio.com/wp-content/uploads/2023/06/AFlCIO_NoOnIssue1_A.jpg
ORGANIZER;CN="Evan Morrison":MAILTO:emorrison@ohaflcio.org
END:VEVENT
BEGIN:VEVENT
DTSTART;TZID=America/New_York:20230808T080000
DTEND;TZID=America/New_York:20230808T100000
DTSTAMP:20260420T075949
CREATED:20230731T144235Z
LAST-MODIFIED:20230731T144235Z
UID:421-1691481600-1691488800@unionstrongohio.com
SUMMARY:Columbus Vote No on Issue 1 Election Day Canvass Packet Pickup
DESCRIPTION:Join your union Sisters\, Brothers\, Siblings and others who care about protecting majority rule as we canvass on Election Day to get out the vote for the August 8 Vote No On Issue 1 Special Election. This is a packet pickup time only and you can walk/lit drop on Election Day as available.
URL:https://unionstrongohio.com/event/columbus-vote-no-on-issue-1-election-day-canvass-packet-pickup/
LOCATION:UCFW 1059\, 4150 E Main St\, Columbus\, OH\, 43213\, United States
ATTACH;FMTTYPE=image/jpeg:https://unionstrongohio.com/wp-content/uploads/2023/06/AFlCIO_NoOnIssue1_A.jpg
ORGANIZER;CN="Jamie Shumaker":MAILTO:jshumaker@columbusaflcio.org
END:VEVENT
BEGIN:VEVENT
DTSTART;TZID=America/New_York:20230807T160000
DTEND;TZID=America/New_York:20230807T180000
DTSTAMP:20260420T075949
CREATED:20230731T144004Z
LAST-MODIFIED:20230731T144004Z
UID:419-1691424000-1691431200@unionstrongohio.com
SUMMARY:Dayton Vote No on Issue 1 Election Day Canvass Packet Pickup
DESCRIPTION:Join your union Sisters\, Brothers\, Siblings and others who care about protecting majority rule as we canvass on Election Day to get out the vote for the August 8 Vote No On Issue 1 Special Election. This is a packet pickup time only and you can walk/lit drop on Election Day as available.
URL:https://unionstrongohio.com/event/dayton-vote-no-on-issue-1-election-day-canvass-packet-pickup-2/
LOCATION:Dayton-Miami Valley AFL-CIO\, 6550 Poe Ave\, Vandalia\, OH\, 45414\, United States
ATTACH;FMTTYPE=image/jpeg:https://unionstrongohio.com/wp-content/uploads/2023/06/AFlCIO_NoOnIssue1_A.jpg
ORGANIZER;CN="Evan Hennessy":MAILTO:ehennessy@ohaflcio.org
END:VEVENT
BEGIN:VEVENT
DTSTART;TZID=America/New_York:20230807T090000
DTEND;TZID=America/New_York:20230807T110000
DTSTAMP:20260420T075949
CREATED:20230731T143921Z
LAST-MODIFIED:20230731T143921Z
UID:417-1691398800-1691406000@unionstrongohio.com
SUMMARY:Dayton Vote No on Issue 1 Election Day Canvass Packet Pickup
DESCRIPTION:Join your union Sisters\, Brothers\, Siblings and others who care about protecting majority rule as we canvass on Election Day to get out the vote for the August 8 Vote No On Issue 1 Special Election. This is a packet pickup time only and you can walk/lit drop on Election Day as available.
URL:https://unionstrongohio.com/event/dayton-vote-no-on-issue-1-election-day-canvass-packet-pickup/
LOCATION:Dayton-Miami Valley AFL-CIO\, 6550 Poe Ave\, Vandalia\, OH\, 45414\, United States
ATTACH;FMTTYPE=image/jpeg:https://unionstrongohio.com/wp-content/uploads/2023/06/AFlCIO_NoOnIssue1_A.jpg
ORGANIZER;CN="Evan Hennessy":MAILTO:ehennessy@ohaflcio.org
END:VEVENT
BEGIN:VEVENT
DTSTART;TZID=America/New_York:20230806T130000
DTEND;TZID=America/New_York:20230806T160000
DTSTAMP:20260420T075949
CREATED:20230731T143545Z
LAST-MODIFIED:20230731T143545Z
UID:414-1691326800-1691337600@unionstrongohio.com
SUMMARY:Columbus Vote No on Issue 1 GOTV Canvass
DESCRIPTION:Join your union Sisters\, Brothers\, Siblings and others who care about protecting majority rule as we canvass to get out the vote for the August 8 Vote No On Issue 1 Special Election
URL:https://unionstrongohio.com/event/columbus-vote-no-on-issue-1-gotv-canvass/
LOCATION:UCFW 1059\, 4150 E Main St\, Columbus\, OH\, 43213\, United States
ATTACH;FMTTYPE=image/jpeg:https://unionstrongohio.com/wp-content/uploads/2023/06/AFlCIO_NoOnIssue1_B.jpg
ORGANIZER;CN="Jamie Shumaker":MAILTO:jshumaker@columbusaflcio.org
END:VEVENT
BEGIN:VEVENT
DTSTART;TZID=America/New_York:20230806T130000
DTEND;TZID=America/New_York:20230806T160000
DTSTAMP:20260420T075949
CREATED:20230731T143404Z
LAST-MODIFIED:20230731T143404Z
UID:410-1691326800-1691337600@unionstrongohio.com
SUMMARY:Dayton Vote No on Issue 1 GOTV Canvass
DESCRIPTION:Join your union Sisters\, Brothers\, Siblings and others who care about protecting majority rule as we canvass to get out the vote for the August 8 Vote No On Issue 1 Special Election
URL:https://unionstrongohio.com/event/dayton-vote-no-on-issue-1-gotv-canvass-2/
LOCATION:Dayton-Miami Valley AFL-CIO\, 6550 Poe Ave\, Vandalia\, OH\, 45414\, United States
ATTACH;FMTTYPE=image/jpeg:https://unionstrongohio.com/wp-content/uploads/2023/06/AFlCIO_NoOnIssue1_B.jpg
ORGANIZER;CN="Evan Hennessy":MAILTO:ehennessy@ohaflcio.org
END:VEVENT
BEGIN:VEVENT
DTSTART;TZID=America/New_York:20230806T130000
DTEND;TZID=America/New_York:20230806T160000
DTSTAMP:20260420T075949
CREATED:20230731T143233Z
LAST-MODIFIED:20230731T143233Z
UID:406-1691326800-1691337600@unionstrongohio.com
SUMMARY:Athens Vote No on Issue 1 GOTV Canvass
DESCRIPTION:Join your union Sisters\, Brothers\, Siblings and others who care about protecting majority rule as we canvass to get out the vote for the August 8 Vote No On Issue 1 Special Election
URL:https://unionstrongohio.com/event/athens-vote-no-on-issue-1-gotv-canvass-2/
LOCATION:AFSCME Council 8 The Plains\, 36 S Plains Rd\,\, The Plains\, OH\, 45780\, United States
ATTACH;FMTTYPE=image/jpeg:https://unionstrongohio.com/wp-content/uploads/2023/06/AFlCIO_NoOnIssue1_B.jpg
ORGANIZER;CN="Mike French":MAILTO:mfrench@ohaflcio.org
END:VEVENT
BEGIN:VEVENT
DTSTART;TZID=America/New_York:20230806T130000
DTEND;TZID=America/New_York:20230806T160000
DTSTAMP:20260420T075949
CREATED:20230731T143102Z
LAST-MODIFIED:20230731T143102Z
UID:402-1691326800-1691337600@unionstrongohio.com
SUMMARY:Youngstown/Niles Vote No On Issue 1 GOTV Canvass
DESCRIPTION:Join your union Sisters\, Brothers\, Siblings and others who care about protecting majority rule as we canvass to get out the vote for the August 8 Vote No On Issue 1 Special Election
URL:https://unionstrongohio.com/event/youngstown-niles-vote-no-on-issue-1-gotv-canvass/
LOCATION:USW 2165 N Main St. Nile\, OH\, 2165 N Main St. Nile\, OH\, Niles\, OH\, 44446\, United States
ATTACH;FMTTYPE=image/jpeg:https://unionstrongohio.com/wp-content/uploads/2023/06/AFlCIO_NoOnIssue1_B.jpg
ORGANIZER;CN="Kathleen Kelly-Calcei":MAILTO:kcalcei@ohaflcio.org
END:VEVENT
BEGIN:VEVENT
DTSTART;TZID=America/New_York:20230806T130000
DTEND;TZID=America/New_York:20230806T160000
DTSTAMP:20260420T075949
CREATED:20230731T142646Z
LAST-MODIFIED:20230731T142646Z
UID:394-1691326800-1691337600@unionstrongohio.com
SUMMARY:Akron Vote No On Issue 1 GOTV Canvass
DESCRIPTION:Join your union Sisters\, Brothers\, Siblings and others who care about protecting majority rule as we canvass to get out the vote for the August 8 Vote No On Issue 1 Special Election
URL:https://unionstrongohio.com/event/akron-vote-no-on-issue-1-gotv-canvass/
LOCATION:CWA 4302\, 2650 S. Arlington Rd.\, Akron\, OH\, 44319\, United States
ATTACH;FMTTYPE=image/jpeg:https://unionstrongohio.com/wp-content/uploads/2023/06/AFlCIO_NoOnIssue1_B.jpg
ORGANIZER;CN="Kathleen Kelly-Calcei":MAILTO:kcalcei@ohaflcio.org
END:VEVENT
BEGIN:VEVENT
DTSTART;TZID=America/New_York:20230806T130000
DTEND;TZID=America/New_York:20230806T160000
DTSTAMP:20260420T075949
CREATED:20230731T142502Z
LAST-MODIFIED:20230731T142502Z
UID:390-1691326800-1691337600@unionstrongohio.com
SUMMARY:Canton Vote No On Issue 1 GOTV Canvass
DESCRIPTION:Join your union Sisters\, Brothers\, Siblings and others who care about protecting majority rule as we canvass to get out the vote for the August 8 Vote No On Issue 1 Special Election
URL:https://unionstrongohio.com/event/canton-vote-no-on-issue-1-gotv-canvass-2/
LOCATION:UA 94 Event Center\, 3825 13th St.\, SW\, Canton\, OH\, 44740\, United States
ATTACH;FMTTYPE=image/jpeg:https://unionstrongohio.com/wp-content/uploads/2023/06/AFlCIO_NoOnIssue1_B.jpg
ORGANIZER;CN="Kathleen Kelly-Calcei":MAILTO:kcalcei@ohaflcio.org
END:VEVENT
BEGIN:VEVENT
DTSTART;TZID=America/New_York:20230806T130000
DTEND;TZID=America/New_York:20230806T160000
DTSTAMP:20260420T075949
CREATED:20230731T142333Z
LAST-MODIFIED:20230731T191755Z
UID:386-1691326800-1691337600@unionstrongohio.com
SUMMARY:Cincinnati Vote No On Issue 1 GOTV Canvass
DESCRIPTION:Join your union Sisters\, Brothers\, Siblings and others who care about protecting majority rule as we canvass to get out the vote for the August 8 Vote No On Issue 1 Special Election
URL:https://unionstrongohio.com/event/cincinnati-vote-no-on-issue-1-gotv-canvass-2/
LOCATION:Cincinnati AFL-CIO\, 1385 Tennessee Ave\, Cincinnati\, OH\, 45229\, United States
ATTACH;FMTTYPE=image/jpeg:https://unionstrongohio.com/wp-content/uploads/2023/06/AFlCIO_NoOnIssue1_B.jpg
ORGANIZER;CN="Evan Hennessy":MAILTO:ehennessy@ohaflcio.org
END:VEVENT
BEGIN:VEVENT
DTSTART;TZID=America/New_York:20230806T130000
DTEND;TZID=America/New_York:20230806T160000
DTSTAMP:20260420T075949
CREATED:20230731T141926Z
LAST-MODIFIED:20230731T141926Z
UID:380-1691326800-1691337600@unionstrongohio.com
SUMMARY:GOTV Toledo Vote No On Issue 1 GOTV Canvass
DESCRIPTION:Join your union Sisters\, Brothers\, Siblings and others who care about protecting majority rule as we canvass to get out the vote for the August 8 Vote No On Issue 1 Special Election
URL:https://unionstrongohio.com/event/gotv-toledo-vote-no-on-issue-1-gotv-canvass/
LOCATION:TFT Local 250\, 115 S. St Clair St\,\, Toledo\, OH\, United States
ATTACH;FMTTYPE=image/jpeg:https://unionstrongohio.com/wp-content/uploads/2023/06/AFlCIO_NoOnIssue1_B.jpg
ORGANIZER;CN="Evan Morrison":MAILTO:emorrison@ohaflcio.org
END:VEVENT
BEGIN:VEVENT
DTSTART;TZID=America/New_York:20230805T100000
DTEND;TZID=America/New_York:20230805T160000
DTSTAMP:20260420T075949
CREATED:20230731T143505Z
LAST-MODIFIED:20230731T143505Z
UID:412-1691229600-1691251200@unionstrongohio.com
SUMMARY:Columbus Vote No On Issue 1 GOTV Canvass with OAPSE's Joe Rugola and Tim Ryan
DESCRIPTION:Join your union Sisters\, Brothers\, Siblings and others who care about protecting majority rule as we canvass to get out the vote for the August 8 Vote No On Issue 1 Special Election
URL:https://unionstrongohio.com/event/columbus-vote-no-on-issue-1-gotv-canvass-with-oapses-joe-rugola-and-tim-ryan/
LOCATION:UCFW 1059\, 4150 E Main St\, Columbus\, OH\, 43213\, United States
ATTACH;FMTTYPE=image/jpeg:https://unionstrongohio.com/wp-content/uploads/2023/06/AFlCIO_NoOnIssue1_B.jpg
ORGANIZER;CN="Jamie Shumaker":MAILTO:jshumaker@columbusaflcio.org
END:VEVENT
BEGIN:VEVENT
DTSTART;TZID=America/New_York:20230805T100000
DTEND;TZID=America/New_York:20230805T160000
DTSTAMP:20260420T075949
CREATED:20230731T143322Z
LAST-MODIFIED:20230731T143322Z
UID:408-1691229600-1691251200@unionstrongohio.com
SUMMARY:Dayton Vote No On Issue 1 GOTV Canvass
DESCRIPTION:Join your union Sisters\, Brothers\, Siblings and others who care about protecting majority rule as we canvass to get out the vote for the August 8 Vote No On Issue 1 Special Election
URL:https://unionstrongohio.com/event/dayton-vote-no-on-issue-1-gotv-canvass/
LOCATION:Dayton-Miami Valley AFL-CIO\, 6550 Poe Ave\, Vandalia\, OH\, 45414\, United States
ATTACH;FMTTYPE=image/jpeg:https://unionstrongohio.com/wp-content/uploads/2023/06/AFlCIO_NoOnIssue1_B.jpg
ORGANIZER;CN="Evan Hennessy":MAILTO:ehennessy@ohaflcio.org
END:VEVENT
BEGIN:VEVENT
DTSTART;TZID=America/New_York:20230805T100000
DTEND;TZID=America/New_York:20230805T160000
DTSTAMP:20260420T075949
CREATED:20230731T143151Z
LAST-MODIFIED:20230731T143151Z
UID:404-1691229600-1691251200@unionstrongohio.com
SUMMARY:Athens Vote No On Issue 1 GOTV Canvass
DESCRIPTION:Join your union Sisters\, Brothers\, Siblings and others who care about protecting majority rule as we canvass to get out the vote for the August 8 Vote No On Issue 1 Special Election
URL:https://unionstrongohio.com/event/athens-vote-no-on-issue-1-gotv-canvass/
LOCATION:AFSCME Council 8 The Plains\, 36 S Plains Rd\,\, The Plains\, OH\, 45780\, United States
ATTACH;FMTTYPE=image/jpeg:https://unionstrongohio.com/wp-content/uploads/2023/06/AFlCIO_NoOnIssue1_B.jpg
ORGANIZER;CN="Mike French":MAILTO:mfrench@ohaflcio.org
END:VEVENT
BEGIN:VEVENT
DTSTART;TZID=America/New_York:20230805T100000
DTEND;TZID=America/New_York:20230805T160000
DTSTAMP:20260420T075949
CREATED:20230731T143014Z
LAST-MODIFIED:20230731T143014Z
UID:400-1691229600-1691251200@unionstrongohio.com
SUMMARY:Youngstown/Niles Vote No On Issue 1 Canvass
DESCRIPTION:Join your union Sisters\, Brothers\, Siblings and others who care about protecting majority rule as we canvass to get out the vote for the August 8 Vote No On Issue 1 Special Election
URL:https://unionstrongohio.com/event/youngstown-niles-vote-no-on-issue-1-canvass/
LOCATION:USW 2165 N Main St. Nile\, OH\, 2165 N Main St. Nile\, OH\, Niles\, OH\, 44446\, United States
ATTACH;FMTTYPE=image/jpeg:https://unionstrongohio.com/wp-content/uploads/2023/06/AFlCIO_NoOnIssue1_B.jpg
ORGANIZER;CN="Kathleen Kelly-Calcei":MAILTO:kcalcei@ohaflcio.org
END:VEVENT
BEGIN:VEVENT
DTSTART;TZID=America/New_York:20230805T100000
DTEND;TZID=America/New_York:20230805T160000
DTSTAMP:20260420T075949
CREATED:20230731T142851Z
LAST-MODIFIED:20230731T142851Z
UID:396-1691229600-1691251200@unionstrongohio.com
SUMMARY:Lorain Vote No On Issue 1 GOTV Canvass
DESCRIPTION:Join your union Sisters\, Brothers\, Siblings and others who care about protecting majority rule as we canvass to get out the vote for the August 8 Vote No On Issue 1 Special Election
URL:https://unionstrongohio.com/event/lorain-vote-no-on-issue-1-gotv-canvass/
LOCATION:Union Town Provisions\, 422 Broadway\, Lorain\, OH\, United States
ATTACH;FMTTYPE=image/jpeg:https://unionstrongohio.com/wp-content/uploads/2023/06/AFlCIO_NoOnIssue1_B.jpg
ORGANIZER;CN="Robin Kocher":MAILTO:rkocher@ohaflcio.org
END:VEVENT
BEGIN:VEVENT
DTSTART;TZID=America/New_York:20230805T100000
DTEND;TZID=America/New_York:20230805T160000
DTSTAMP:20260420T075949
CREATED:20230731T142606Z
LAST-MODIFIED:20230731T142606Z
UID:392-1691229600-1691251200@unionstrongohio.com
SUMMARY:Akron Vote No On Issue 2 GOTV Canvass
DESCRIPTION:Join your union Sisters\, Brothers\, Siblings and others who care about protecting majority rule as we canvass to get out the vote for the August 8 Vote No On Issue 1 Special Election
URL:https://unionstrongohio.com/event/akron-vote-no-on-issue-2-gotv-canvass/
LOCATION:CWA 4302\, 2650 S. Arlington Rd.\, Akron\, OH\, 44319\, United States
ATTACH;FMTTYPE=image/jpeg:https://unionstrongohio.com/wp-content/uploads/2023/06/AFlCIO_NoOnIssue1_B.jpg
ORGANIZER;CN="Kathleen Kelly-Calcei":MAILTO:kcalcei@ohaflcio.org
END:VEVENT
BEGIN:VEVENT
DTSTART;TZID=America/New_York:20230805T100000
DTEND;TZID=America/New_York:20230805T160000
DTSTAMP:20260420T075949
CREATED:20230731T142422Z
LAST-MODIFIED:20230731T142422Z
UID:376-1691229600-1691251200@unionstrongohio.com
SUMMARY:Canton Vote No On Issue 1 GOTV Canvass
DESCRIPTION:Join your union Sisters\, Brothers\, Siblings and others who care about protecting majority rule as we canvass to get out the vote for the August 8 Vote No On Issue 1 Special Election
URL:https://unionstrongohio.com/event/canton-vote-no-on-issue-1-gotv-canvass/
LOCATION:UA 94 Event Center\, 3825 13th St.\, SW\, Canton\, OH\, 44740\, United States
ATTACH;FMTTYPE=image/jpeg:https://unionstrongohio.com/wp-content/uploads/2023/06/AFlCIO_NoOnIssue1_B.jpg
ORGANIZER;CN="Kathleen Kelly-Calcei":MAILTO:kcalcei@ohaflcio.org
END:VEVENT
BEGIN:VEVENT
DTSTART;TZID=America/New_York:20230805T100000
DTEND;TZID=America/New_York:20230805T160000
DTSTAMP:20260420T075949
CREATED:20230731T142136Z
LAST-MODIFIED:20230731T191636Z
UID:384-1691229600-1691251200@unionstrongohio.com
SUMMARY:Cincinnati Vote No On Issue 1 GOTV Canvass
DESCRIPTION:Join your union Sisters\, Brothers\, Siblings and others who care about protecting majority rule as we canvass to get out the vote for the August 8 Vote No On Issue 1 Special Election
URL:https://unionstrongohio.com/event/cincinnati-vote-no-on-issue-1-gotv-canvass/
LOCATION:Cincinnati AFL-CIO\, 1385 Tennessee Ave\, Cincinnati\, OH\, 45229\, United States
ATTACH;FMTTYPE=image/jpeg:https://unionstrongohio.com/wp-content/uploads/2023/06/AFlCIO_NoOnIssue1_B.jpg
ORGANIZER;CN="Evan Hennessy":MAILTO:ehennessy@ohaflcio.org
END:VEVENT
BEGIN:VEVENT
DTSTART;TZID=America/New_York:20230805T100000
DTEND;TZID=America/New_York:20230805T160000
DTSTAMP:20260420T075949
CREATED:20230731T142037Z
LAST-MODIFIED:20230731T143625Z
UID:382-1691229600-1691251200@unionstrongohio.com
SUMMARY:Cleveland Vote No On Issue 1 GOTV Canvass with AFT President Randi Weingarten
DESCRIPTION:Join your union Sisters\, Brothers\, Siblings and others who care about protecting majority rule as we canvass to get out the vote for the August 8 Vote No On Issue 1 Special Election
URL:https://unionstrongohio.com/event/cleveland-vote-no-on-issue-1-gotv-canvass/
LOCATION:PJ McEntyres\, 17119 Lorain Ave\, Cleveland\, OH\, 44111\, United States
ATTACH;FMTTYPE=image/jpeg:https://unionstrongohio.com/wp-content/uploads/2023/06/AFlCIO_NoOnIssue1_B.jpg
ORGANIZER;CN="Brian Pearson":MAILTO:bpearson@clevelandaflcio.org
END:VEVENT
BEGIN:VEVENT
DTSTART;TZID=America/New_York:20230805T100000
DTEND;TZID=America/New_York:20230805T160000
DTSTAMP:20260420T075949
CREATED:20230731T141805Z
LAST-MODIFIED:20230731T141805Z
UID:377-1691229600-1691251200@unionstrongohio.com
SUMMARY:GOTV Toledo Vote No On Issue 1 Canvass
DESCRIPTION:Join your union Sisters\, Brothers\, Siblings and others who care about protecting majority rule as we canvass to get out the vote for the August 8 Vote No On Issue 1 Special Election
URL:https://unionstrongohio.com/event/gotv-toledo-vote-no-on-issue-1-canvass/
LOCATION:TFT Local 250\, 115 S. St Clair St\,\, Toledo\, OH\, United States
ATTACH;FMTTYPE=image/jpeg:https://unionstrongohio.com/wp-content/uploads/2023/06/AFlCIO_NoOnIssue1_B.jpg
ORGANIZER;CN="Evan Morrison":MAILTO:emorrison@ohaflcio.org
END:VEVENT
BEGIN:VEVENT
DTSTART;TZID=America/New_York:20230805T100000
DTEND;TZID=America/New_York:20230805T130000
DTSTAMP:20260420T075949
CREATED:20230724T192802Z
LAST-MODIFIED:20230728T201344Z
UID:370-1691229600-1691240400@unionstrongohio.com
SUMMARY:Cleveland Canvass/Lit Drop with AFT President Randy Weingarten
DESCRIPTION:Come help get out the NO on Issue 1 vote as we gather in solidarity to hear from American Federation of Teachers President Randi Weingarten before we hit the streets and talk to our neighbors about how important their Vote on August 8 is. Union members\, retirees and all who care about democracy are welcome to attend and participate.
URL:https://unionstrongohio.com/event/cleveland-canvas-lit-drop-with-aft-president-randy-weingarten/
LOCATION:PJ McEntyres\, 17119 Lorain Ave\, Cleveland\, OH\, 44111\, United States
ATTACH;FMTTYPE=image/jpeg:https://unionstrongohio.com/wp-content/uploads/2023/06/AFlCIO_NoOnIssue1_A.jpg
ORGANIZER;CN="Brian Pearson":MAILTO:bpearson@clevelandaflcio.org
END:VEVENT
BEGIN:VEVENT
DTSTART;TZID=America/New_York:20230801T120000
DTEND;TZID=America/New_York:20230801T133000
DTSTAMP:20260420T075949
CREATED:20230721T152354Z
LAST-MODIFIED:20230721T152405Z
UID:361-1690891200-1690896600@unionstrongohio.com
SUMMARY:Mansfield Issue 1 Luncheon with Governor Dick Celeste and Ohio AFL-CIO President Tim Burga
DESCRIPTION:Come join former Governor Dick Celeste and Ohio AFL-CIO President Tim Burga to learn more about the devastating affects Issue 1 will have on all Ohio voters. We must VOTE NO to protect majorioty rule and preserve democracy in Ohio. Free lunch will be provided
URL:https://unionstrongohio.com/event/mansfield-ssue-1-luncheon-with-governor-dick-celeste-and-ohio-afl-cio-president-tim-burga/
LOCATION:USW 169 Hall\, 376 West Longview\, Mansfield\, OH\, 4903\, United States
ATTACH;FMTTYPE=image/jpeg:https://unionstrongohio.com/wp-content/uploads/2023/06/AFlCIO_NoOnIssue1_B.jpg
ORGANIZER;CN="Norm Shoemaker":MAILTO:MIDOHIOAREACLC@GMAIL.COM
END:VEVENT
END:VCALENDAR